BEGIN:VCALENDAR
VERSION:2.0
PRODID:-//Stella Maris - ECPv6.2.4//NONSGML v1.0//EN
CALSCALE:GREGORIAN
METHOD:PUBLISH
X-ORIGINAL-URL:https://stellamarisschool.co.uk
X-WR-CALDESC:Events for Stella Maris
REFRESH-INTERVAL;VALUE=DURATION:PT1H
X-Robots-Tag:noindex
X-PUBLISHED-TTL:PT1H
BEGIN:VTIMEZONE
TZID:Europe/London
BEGIN:DAYLIGHT
TZOFFSETFROM:+0000
TZOFFSETTO:+0100
TZNAME:BST
DTSTART:20240331T010000
END:DAYLIGHT
BEGIN:STANDARD
TZOFFSETFROM:+0100
TZOFFSETTO:+0000
TZNAME:GMT
DTSTART:20241027T010000
END:STANDARD
END:VTIMEZONE
BEGIN:VEVENT
DTSTART;VALUE=DATE:20240626
DTEND;VALUE=DATE:20240627
DTSTAMP:20260422T032952
CREATED:20240314T202925Z
LAST-MODIFIED:20240314T202925Z
UID:2228-1719360000-1719446399@stellamarisschool.co.uk
SUMMARY:Sports Day
DESCRIPTION:
URL:https://stellamarisschool.co.uk/event/sports-day/
END:VEVENT
BEGIN:VEVENT
DTSTART;VALUE=DATE:20240702
DTEND;VALUE=DATE:20240703
DTSTAMP:20260422T032952
CREATED:20240314T203153Z
LAST-MODIFIED:20240314T203153Z
UID:2230-1719878400-1719964799@stellamarisschool.co.uk
SUMMARY:Summer Show
DESCRIPTION:
URL:https://stellamarisschool.co.uk/event/summer-show/
END:VEVENT
BEGIN:VEVENT
DTSTART;VALUE=DATE:20240708
DTEND;VALUE=DATE:20240709
DTSTAMP:20260422T032952
CREATED:20240314T203221Z
LAST-MODIFIED:20240314T203221Z
UID:2232-1720396800-1720483199@stellamarisschool.co.uk
SUMMARY:LAMDA Speech Exams in school
DESCRIPTION:
URL:https://stellamarisschool.co.uk/event/lamda-speech-exams-in-school/
END:VEVENT
BEGIN:VEVENT
DTSTART;VALUE=DATE:20240709
DTEND;VALUE=DATE:20240710
DTSTAMP:20260422T032952
CREATED:20240314T203302Z
LAST-MODIFIED:20240314T203302Z
UID:2234-1720483200-1720569599@stellamarisschool.co.uk
SUMMARY:PP and KS1 Prize-giving Assembly
DESCRIPTION:
URL:https://stellamarisschool.co.uk/event/pp-and-ks1-prize-giving-assembly/
END:VEVENT
BEGIN:VEVENT
DTSTART;VALUE=DATE:20240710
DTEND;VALUE=DATE:20240711
DTSTAMP:20260422T032952
CREATED:20240314T203336Z
LAST-MODIFIED:20240314T203336Z
UID:2236-1720569600-1720655999@stellamarisschool.co.uk
SUMMARY:Years 3-5  Prize-giving Assembly
DESCRIPTION:
URL:https://stellamarisschool.co.uk/event/years-3-5-prize-giving-assembly/
END:VEVENT
BEGIN:VEVENT
DTSTART;VALUE=DATE:20240712
DTEND;VALUE=DATE:20240713
DTSTAMP:20260422T032952
CREATED:20240314T203414Z
LAST-MODIFIED:20240314T203414Z
UID:2238-1720742400-1720828799@stellamarisschool.co.uk
SUMMARY:Year 6 Leaving Assembly
DESCRIPTION:
URL:https://stellamarisschool.co.uk/event/year-6-leaving-assembly/
END:VEVENT
END:VCALENDAR